BEGIN:VCALENDAR
VERSION:2.0
PRODID:-//Go &amp; Tell - ECPv6.15.11//NONSGML v1.0//EN
CALSCALE:GREGORIAN
METHOD:PUBLISH
X-WR-CALNAME:Go &amp; Tell
X-ORIGINAL-URL:https://goandtell.online
X-WR-CALDESC:Events for Go &amp; Tell
REFRESH-INTERVAL;VALUE=DURATION:PT1H
X-Robots-Tag:noindex
X-PUBLISHED-TTL:PT1H
BEGIN:VTIMEZONE
TZID:UTC
BEGIN:STANDARD
TZOFFSETFROM:+0000
TZOFFSETTO:+0000
TZNAME:UTC
DTSTART:20240101T000000
END:STANDARD
END:VTIMEZONE
BEGIN:VEVENT
DTSTART;VALUE=DATE:20250913
DTEND;VALUE=DATE:20250915
DTSTAMP:20260423T013423
CREATED:20250505T150640Z
LAST-MODIFIED:20250505T150640Z
UID:10000023-1757721600-1757894399@goandtell.online
SUMMARY:Made For More Retreat 2025
DESCRIPTION:
URL:https://goandtell.online/event/made-for-more-retreat-2025/
CATEGORIES:Tanja
ATTACH;FMTTYPE=image/png:https://goandtell.online/wp-content/uploads/2025/05/Screenshot-2025-05-05-at-5.05.43 PM.png
END:VEVENT
END:VCALENDAR