BEGIN:VCALENDAR
VERSION:2.0
PRODID:-//Go &amp; Tell - ECPv6.15.11//NONSGML v1.0//EN
CALSCALE:GREGORIAN
METHOD:PUBLISH
X-ORIGINAL-URL:https://goandtell.online
X-WR-CALDESC:Events for Go &amp; Tell
REFRESH-INTERVAL;VALUE=DURATION:PT1H
X-Robots-Tag:noindex
X-PUBLISHED-TTL:PT1H
BEGIN:VTIMEZONE
TZID:UTC
BEGIN:STANDARD
TZOFFSETFROM:+0000
TZOFFSETTO:+0000
TZNAME:UTC
DTSTART:20240101T000000
END:STANDARD
END:VTIMEZONE
BEGIN:VEVENT
DTSTART;VALUE=DATE:20250905
DTEND;VALUE=DATE:20250908
DTSTAMP:20260422T224042
CREATED:20250505T195951Z
LAST-MODIFIED:20250509T125235Z
UID:10000024-1757030400-1757289599@goandtell.online
SUMMARY:Days of Faith @ Zollhaus Church
DESCRIPTION:Shawn is speaking at Days of Faith conference at Zollhaus Church in Luzern\, Switzerland
URL:https://goandtell.online/event/shawn-speaking-at-days-of-faith-lucern/
LOCATION:Zollhauskirche\, Lucern\, Switzerland
CATEGORIES:Shawn
ATTACH;FMTTYPE=image/jpeg:https://goandtell.online/wp-content/uploads/2025/03/go-and-tell-spokane_3-1-scaled.jpg
END:VEVENT
BEGIN:VEVENT
DTSTART;VALUE=DATE:20250911
DTEND;VALUE=DATE:20250915
DTSTAMP:20260422T224042
CREATED:20250505T100904Z
LAST-MODIFIED:20250505T134349Z
UID:10000021-1757548800-1757894399@goandtell.online
SUMMARY:Iron Days
DESCRIPTION:An annual event for men to come together to build community and pray together.
URL:https://goandtell.online/event/iron-days/
CATEGORIES:Rubin,Shawn
ATTACH;FMTTYPE=image/heic:https://goandtell.online/wp-content/uploads/2025/05/IMG_8249-scaled.jpg
END:VEVENT
END:VCALENDAR