BEGIN:VCALENDAR
VERSION:2.0
PRODID:-//Go &amp; Tell - ECPv6.15.11//NONSGML v1.0//EN
CALSCALE:GREGORIAN
METHOD:PUBLISH
X-WR-CALNAME:Go &amp; Tell
X-ORIGINAL-URL:https://goandtell.online
X-WR-CALDESC:Events for Go &amp; Tell
REFRESH-INTERVAL;VALUE=DURATION:PT1H
X-Robots-Tag:noindex
X-PUBLISHED-TTL:PT1H
BEGIN:VTIMEZONE
TZID:UTC
BEGIN:STANDARD
TZOFFSETFROM:+0000
TZOFFSETTO:+0000
TZNAME:UTC
DTSTART:20240101T000000
END:STANDARD
END:VTIMEZONE
BEGIN:VEVENT
DTSTART;VALUE=DATE:20250506
DTEND;VALUE=DATE:20250513
DTSTAMP:20260423T054856
CREATED:20250505T093831Z
LAST-MODIFIED:20250505T094549Z
UID:10000017-1746489600-1747094399@goandtell.online
SUMMARY:GO&TELL Prep- Barbados & St. Vincent
DESCRIPTION:
URL:https://goandtell.online/event/event-prep-in-barbados-st-vincent/
CATEGORIES:GO&TELL,Shawn
ATTACH;FMTTYPE=image/jpeg:https://goandtell.online/wp-content/uploads/2025/05/0621efc4-f7f0-4f34-98c2-81431a18de2f-scaled.jpg
END:VEVENT
END:VCALENDAR