BEGIN:VCALENDAR
VERSION:2.0
PRODID:-//Go &amp; Tell - ECPv6.15.11//NONSGML v1.0//EN
CALSCALE:GREGORIAN
METHOD:PUBLISH
X-WR-CALNAME:Go &amp; Tell
X-ORIGINAL-URL:https://goandtell.online
X-WR-CALDESC:Events for Go &amp; Tell
REFRESH-INTERVAL;VALUE=DURATION:PT1H
X-Robots-Tag:noindex
X-PUBLISHED-TTL:PT1H
BEGIN:VTIMEZONE
TZID:UTC
BEGIN:STANDARD
TZOFFSETFROM:+0000
TZOFFSETTO:+0000
TZNAME:UTC
DTSTART:20240101T000000
END:STANDARD
END:VTIMEZONE
BEGIN:VEVENT
DTSTART;TZID=UTC:20250504T101500
DTEND;TZID=UTC:20250504T120000
DTSTAMP:20260423T054918
CREATED:20250505T141623Z
LAST-MODIFIED:20250505T141623Z
UID:10000022-1746353700-1746360000@goandtell.online
SUMMARY:Sunday Service @ ICF ZO | Wetzikon\, Switzerland
DESCRIPTION:
URL:https://goandtell.online/event/sunday-service-icf-zo-wetzikon-switzerland/
CATEGORIES:Tanja
END:VEVENT
END:VCALENDAR